BEGIN:VCALENDAR
VERSION:2.0
PRODID:-//Bulwagan ng Dangal University Heritage Museum - University of the Philippines Diliman - ECPv6.15.20//NONSGML v1.0//EN
CALSCALE:GREGORIAN
METHOD:PUBLISH
X-WR-CALNAME:Bulwagan ng Dangal University Heritage Museum - University of the Philippines Diliman
X-ORIGINAL-URL:https://bulwaganngdangal.upd.edu.ph
X-WR-CALDESC:Events for Bulwagan ng Dangal University Heritage Museum - University of the Philippines Diliman
REFRESH-INTERVAL;VALUE=DURATION:PT1H
X-Robots-Tag:noindex
X-PUBLISHED-TTL:PT1H
BEGIN:VTIMEZONE
TZID:Asia/Shanghai
BEGIN:STANDARD
TZOFFSETFROM:+0800
TZOFFSETTO:+0800
TZNAME:CST
DTSTART:20220101T000000
END:STANDARD
END:VTIMEZONE
BEGIN:VEVENT
DTSTART;TZID=Asia/Shanghai:20231206T000000
DTEND;TZID=Asia/Shanghai:20231219T235959
DTSTAMP:20260420T140732
CREATED:20240407T010046Z
LAST-MODIFIED:20240526T134655Z
UID:204-1701820800-1703030399@bulwaganngdangal.upd.edu.ph
SUMMARY:Above the Fold: Pages of the Philippine Collegian Under Marcos Regime
DESCRIPTION:The Philippine Collegian (Kulê) and the UP Diliman Bulwagan ng Dangal University Heritage Museum (BnD) are launching the exhibition “Above the Fold: Pages of the Philippine Collegian Under Marcos Regime.” By examining selected materials published by the university’s official student publication from years prior the proclamation of Martial Law in the country until the ousting of the dictator in 1986\, the exhibit aims to demonstrate how the student publication can be considered a contested site of various players\, vulnerable and at the same time resistant to the manipulation of the dictatorial regime and its agents.
URL:https://bulwaganngdangal.upd.edu.ph/event/above-the-fold-pages-of-the-philippine-collegian-under-marcos-regime/
LOCATION:Vinzons Hall Lobby
CATEGORIES:Exhibitions
ATTACH;FMTTYPE=image/jpeg:https://bulwaganngdangal.upd.edu.ph/wp-content/uploads/2024/04/abovethefoldposter.jpg
END:VEVENT
END:VCALENDAR